BEGIN:VCALENDAR
VERSION:2.0
PRODID:-//Contratero//ES
CALSCALE:GREGORIAN
METHOD:PUBLISH
BEGIN:VEVENT
UID:DNA 245/2025@contratero.es
DTSTAMP:20260421T071830Z
DTSTART:20250728T235959
DTEND:20250729T005959
SUMMARY:Cierre: Renovación de licencias easyvista en plataforma cl
DESCRIPTION:Renovación de licencias easyvista en plataforma cloud\\n\\nOrganismo: Dirección Económico-Financiera de ENAIRE\\n\\nVer en Contratero: https://contratero.es/contracts/DNA 245/2025
URL:https://contratero.es/contracts/DNA 245/2025
STATUS:CONFIRMED
BEGIN:VALARM
TRIGGER:-P1D
ACTION:DISPLAY
DESCRIPTION:Recordatorio: Renovación de licencias easyvi
END:VALARM
END:VEVENT
END:VCALENDAR